BEGIN:VCALENDAR
VERSION:2.0
PRODID:-//CYN Counseling Center - ECPv6.15.20//NONSGML v1.0//EN
CALSCALE:GREGORIAN
METHOD:PUBLISH
X-WR-CALNAME:CYN Counseling Center
X-ORIGINAL-URL:https://cyngrayslake.org
X-WR-CALDESC:Events for CYN Counseling Center
REFRESH-INTERVAL;VALUE=DURATION:PT1H
X-Robots-Tag:noindex
X-PUBLISHED-TTL:PT1H
BEGIN:VTIMEZONE
TZID:UTC
BEGIN:STANDARD
TZOFFSETFROM:+0000
TZOFFSETTO:+0000
TZNAME:UTC
DTSTART:20230101T000000
END:STANDARD
END:VTIMEZONE
BEGIN:VEVENT
DTSTART;TZID=UTC:20240815T130000
DTEND;TZID=UTC:20240815T160000
DTSTAMP:20260421T221545
CREATED:20240730T212027Z
LAST-MODIFIED:20240730T212027Z
UID:4547-1723726800-1723737600@cyngrayslake.org
SUMMARY:Community Resource Fair
DESCRIPTION:Hosted by the Lake County Regional Office of Education\, CYN will be in attendance to share our programs and services available to the community.
URL:https://cyngrayslake.org/event/community-resource-fair/
LOCATION:Big Hollow Middle School\, 26501 W. Nippersink Road\, Ingleside\, IL\, 60041\, United States
CATEGORIES:Community Outreach
END:VEVENT
BEGIN:VEVENT
DTSTART;TZID=UTC:20240803T110000
DTEND;TZID=UTC:20240803T170000
DTSTAMP:20260421T221545
CREATED:20240730T211026Z
LAST-MODIFIED:20240730T212110Z
UID:4544-1722682800-1722704400@cyngrayslake.org
SUMMARY:North Chicago Community Days
DESCRIPTION:North Chicago Community Days is a multi-day summer festival with music\, movies\, carnival\, sporting events\, street performers\, and more. Stop by and visit CYN Counseling Center’s booth #6 to learn about our programs and services.
URL:https://cyngrayslake.org/event/north-chicago-community-days/
LOCATION:Vision Park\, 1730 Lewis Avenue\, North Chicago\, IL\, United States
CATEGORIES:Community Outreach
END:VEVENT
BEGIN:VEVENT
DTSTART;TZID=UTC:20240803T090000
DTEND;TZID=UTC:20240803T130000
DTSTAMP:20260421T221545
CREATED:20240730T205454Z
LAST-MODIFIED:20240730T205510Z
UID:4539-1722675600-1722690000@cyngrayslake.org
SUMMARY:Family First Center Back-to-School Health and Resource Fair
DESCRIPTION:Get Ready for Back-to-School with the YWCA and Family First Center of Lake County! \n\n\nJoin us for our Annual Health and Resource Fair at La Canoa Waukegan on Saturday\, August 3\, 2024 from 9:00 AM to 1:00 PM!\n\n\nLocation:\nLa Canoa Waukegan\n50 S Green Bay Rd\, Waukegan\, IL\n\n\nCome and discover a variety of programs and resources designed to support you and your family. This event is free and open to everyone!\nhttps://lnkd     .in/eaRfjUce\n———\n¡Prepárese para el regreso a clases con la YWCA y Family First Center of Lake County! \n\n\nÚnase a nosotros en nuestra Feria Anual de Salud y Recursos en La Canoa Waukegan el sábado 3 de agosto de 2024\, de 9:00 AM a 1:00 PM.\n\n\n Ubicación:\nLa Canoa Waukegan\n50 S Green Bay Rd\, Waukegan\, IL\n\n\nVenga y descubra una variedad de programas y recursos diseñados para apoyar a usted y a su familia. ¡Este evento es gratuito y abierto a todos!\nhttps://lnkd.in/eaRfjUce
URL:https://cyngrayslake.org/event/family-first-center-back-to-school-health-and-resource-fair/
LOCATION:La Canoa\, 50 South Green Bay Rd\, Waukegan\, IL\, 60085\, United States
CATEGORIES:Community Outreach
END:VEVENT
BEGIN:VEVENT
DTSTART;VALUE=DATE:20240608
DTEND;VALUE=DATE:20240609
DTSTAMP:20260421T221545
CREATED:20240612T215238Z
LAST-MODIFIED:20240612T215238Z
UID:4377-1717804800-1717891199@cyngrayslake.org
SUMMARY:Lake County PrideFest 2024
DESCRIPTION:Rain or shine\, CYN Counseling Center proudly stands with our LGBTQ+ friends at PrideFest.
URL:https://cyngrayslake.org/event/lake-county-pridefest-2024/
LOCATION:Village of Round Lake Beach Cultural & Civic Center\, 2007 N Civic Center Way\, Round Lake Beach\, IL\, 60073
CATEGORIES:Community Outreach
ATTACH;FMTTYPE=image/jpeg:https://cyngrayslake.org/wp-content/uploads/2024/06/Image3.jpeg
ORGANIZER;CN="CYN Counseling Center":MAILTO:janetg@cyngrayslake.org
END:VEVENT
END:VCALENDAR