BEGIN:VCALENDAR
VERSION:2.0
PRODID:-//CYN Counseling Center - ECPv6.15.20//NONSGML v1.0//EN
CALSCALE:GREGORIAN
METHOD:PUBLISH
X-WR-CALNAME:CYN Counseling Center
X-ORIGINAL-URL:https://cyngrayslake.org
X-WR-CALDESC:Events for CYN Counseling Center
REFRESH-INTERVAL;VALUE=DURATION:PT1H
X-Robots-Tag:noindex
X-PUBLISHED-TTL:PT1H
BEGIN:VTIMEZONE
TZID:UTC
BEGIN:STANDARD
TZOFFSETFROM:+0000
TZOFFSETTO:+0000
TZNAME:UTC
DTSTART:20220101T000000
END:STANDARD
END:VTIMEZONE
BEGIN:VEVENT
DTSTART;TZID=UTC:20240620T173000
DTEND;TZID=UTC:20240620T203000
DTSTAMP:20260423T082814
CREATED:20240612T151714Z
LAST-MODIFIED:20240730T212131Z
UID:4374-1718904600-1718915400@cyngrayslake.org
SUMMARY:Donor Appreciation Event
DESCRIPTION:
URL:https://cyngrayslake.org/event/donor-appreciation-event/
LOCATION:IL
CATEGORIES:Dinner
ORGANIZER;CN="CYN Counseling Center":MAILTO:janetg@cyngrayslake.org
END:VEVENT
BEGIN:VEVENT
DTSTART;VALUE=DATE:20240608
DTEND;VALUE=DATE:20240609
DTSTAMP:20260423T082814
CREATED:20240612T215238Z
LAST-MODIFIED:20240612T215238Z
UID:4377-1717804800-1717891199@cyngrayslake.org
SUMMARY:Lake County PrideFest 2024
DESCRIPTION:Rain or shine\, CYN Counseling Center proudly stands with our LGBTQ+ friends at PrideFest.
URL:https://cyngrayslake.org/event/lake-county-pridefest-2024/
LOCATION:Village of Round Lake Beach Cultural & Civic Center\, 2007 N Civic Center Way\, Round Lake Beach\, IL\, 60073
CATEGORIES:Community Outreach
ATTACH;FMTTYPE=image/jpeg:https://cyngrayslake.org/wp-content/uploads/2024/06/Image3.jpeg
ORGANIZER;CN="CYN Counseling Center":MAILTO:janetg@cyngrayslake.org
END:VEVENT
BEGIN:VEVENT
DTSTART;VALUE=DATE:20231101
DTEND;VALUE=DATE:20231209
DTSTAMP:20260423T082814
CREATED:20231020T194825Z
LAST-MODIFIED:20231020T194825Z
UID:3925-1698796800-1702079999@cyngrayslake.org
SUMMARY:Holiday Gift Drive
DESCRIPTION:95% of CYN clients are low-to-moderate income\, so our programs include support for many at-risk kids and families. In the spirit of giving\, we are providing holiday gifts for those kids in greatest need. Now through December 8\, we will collect gifts and wish list items for 150 youth involved in our Intact and Mentoring Programs. \nRegister to be a Holiday Helper at Holiday Gift Drive – CYN Counseling Center (cyngrayslake.org).
URL:https://cyngrayslake.org/event/holiday-gift-drive/
LOCATION:IL
CATEGORIES:Program,Volunteer
ATTACH;FMTTYPE=image/png:https://cyngrayslake.org/wp-content/uploads/2023/10/thumbnail.png
END:VEVENT
BEGIN:VEVENT
DTSTART;TZID=UTC:20230929T180000
DTEND;TZID=UTC:20230929T210000
DTSTAMP:20260423T082814
CREATED:20230905T205115Z
LAST-MODIFIED:20230905T205115Z
UID:3858-1696010400-1696021200@cyngrayslake.org
SUMMARY:"Behind the Mask" Masquerade Gala for Suicide Prevention
DESCRIPTION:
URL:https://cyngrayslake.org/event/behind-the-mask-masquerade-gala-for-suicide-prevention/
LOCATION:Ivanhoe Club\, 28846 N Thorngate Dr\, Mundelein\, IL\, 60060
CATEGORIES:Dinner
ATTACH;FMTTYPE=image/png:https://cyngrayslake.org/wp-content/uploads/2023/09/website-thumbnail.png
END:VEVENT
BEGIN:VEVENT
DTSTART;TZID=UTC:20230616T180000
DTEND;TZID=UTC:20230616T203000
DTSTAMP:20260423T082814
CREATED:20230316T200536Z
LAST-MODIFIED:20230328T135838Z
UID:3608-1686938400-1686947400@cyngrayslake.org
SUMMARY:"Connecting for a Cause" Donor Appreciation Event
DESCRIPTION:CYN Counseling Center would not be successful in our mission were it not for the incredible support from our Impact Leaders and community collaborators. \n“Connecting for a Cause” is an annual Donor Appreciation Event by invitation only to celebrate our fiscal year achievements and honor our major supporters and partners for supporting us along the way. \nIf you or someone you know is interested in joining CYN to provide a permanent\, positive solution to community mental health\, contact us today.
URL:https://cyngrayslake.org/event/connecting-for-a-cause-donor-appreciation-event/
LOCATION:Deerfield\, IL\, Deerfield\, IL\, 60015
CATEGORIES:Dinner
ATTACH;FMTTYPE=image/png:https://cyngrayslake.org/wp-content/uploads/2023/03/CfaC-square-post.png
END:VEVENT
BEGIN:VEVENT
DTSTART;VALUE=DATE:20230501
DTEND;VALUE=DATE:20230601
DTSTAMP:20260423T082814
CREATED:20230316T194942Z
LAST-MODIFIED:20230316T194942Z
UID:3601-1682899200-1685577599@cyngrayslake.org
SUMMARY:May is Mental Health Awareness Month
DESCRIPTION:Join CYN Counseling Center all month as we educate and advocate on behalf of mental wellness in our community and online. \nEducation presentations will be conducted at various community locations including Lake County schools\, Rotary Clubs\, Exchange Clubs & more. \nWhat’s in Your Emotional Wellness Toolkit?\nYour wellness can affect your ability to carry out everyday activities\, your relationships\, and your overall mental health. How you react to your experiences and feelings can change over time. Emotional wellness is the ability to successfully handle life’s stresses and adapt to change and difficult times. \nVisit Mental Health Awareness Month – CYN Counseling Center (cyngrayslake.org) to develop your toolkit or contact Jennifer Flatley to learn mor about programming and education. \n  \nSpecial thank you to our Sponsors
URL:https://cyngrayslake.org/event/may-is-mental-health-awareness-month/
LOCATION:IL
CATEGORIES:Program
ATTACH;FMTTYPE=image/png:https://cyngrayslake.org/wp-content/uploads/2023/03/2023-MENTAL-HEALTH-AWARENESS-MONTH-FB-Cover-924-×-924-px-1.png
END:VEVENT
END:VCALENDAR