BEGIN:VCALENDAR
VERSION:2.0
PRODID:-//CYN Counseling Center - ECPv6.15.20//NONSGML v1.0//EN
CALSCALE:GREGORIAN
METHOD:PUBLISH
X-ORIGINAL-URL:https://cyngrayslake.org
X-WR-CALDESC:Events for CYN Counseling Center
REFRESH-INTERVAL;VALUE=DURATION:PT1H
X-Robots-Tag:noindex
X-PUBLISHED-TTL:PT1H
BEGIN:VTIMEZONE
TZID:UTC
BEGIN:STANDARD
TZOFFSETFROM:+0000
TZOFFSETTO:+0000
TZNAME:UTC
DTSTART:20230101T000000
END:STANDARD
END:VTIMEZONE
BEGIN:VEVENT
DTSTART;TZID=UTC:20240815T130000
DTEND;TZID=UTC:20240815T160000
DTSTAMP:20260423T032614
CREATED:20240730T212027Z
LAST-MODIFIED:20240730T212027Z
UID:4547-1723726800-1723737600@cyngrayslake.org
SUMMARY:Community Resource Fair
DESCRIPTION:Hosted by the Lake County Regional Office of Education\, CYN will be in attendance to share our programs and services available to the community.
URL:https://cyngrayslake.org/event/community-resource-fair/
LOCATION:Big Hollow Middle School\, 26501 W. Nippersink Road\, Ingleside\, IL\, 60041\, United States
CATEGORIES:Community Outreach
END:VEVENT
BEGIN:VEVENT
DTSTART;TZID=UTC:20240927T180000
DTEND;TZID=UTC:20240927T220000
DTSTAMP:20260423T032614
CREATED:20240730T203414Z
LAST-MODIFIED:20240730T212054Z
UID:4449-1727460000-1727474400@cyngrayslake.org
SUMMARY:3rd Annual Behind the Mask Gala
DESCRIPTION:
URL:https://cyngrayslake.org/event/3rd-annual-behind-the-mask-gala-2/
LOCATION:Ivanhoe Club\, 28846 N Thorngate Dr\, Mundelein\, IL\, 60060
CATEGORIES:Dinner
ATTACH;FMTTYPE=image/png:https://cyngrayslake.org/wp-content/uploads/2024/07/BTM-Web-2.png
ORGANIZER;CN="CYN Counseling Center":MAILTO:janetg@cyngrayslake.org
END:VEVENT
BEGIN:VEVENT
DTSTART;TZID=UTC:20250926T173000
DTEND;TZID=UTC:20250926T220000
DTSTAMP:20260423T032614
CREATED:20250703T182521Z
LAST-MODIFIED:20250729T155102Z
UID:4933-1758907800-1758924000@cyngrayslake.org
SUMMARY:4th Annual Gala
DESCRIPTION:Join us for CYN Counseling Center’s 4th Annual Behind the Mask Gala – an evening dedicated to celebrating resilience\, raising awareness for mental health\, and supporting access to life-changing services across Lake County. \nThis year’s theme\, Shine Through\, reflects the strength and spirit of the children\, teens\, adults\, and families we serve—and the supporters who stand with them. \nGuests will enjoy a relaxed and meaningful evening featuring:✨ Dinner and drinks🎭 Mask contest with prizes💎 Our signature Champagne Diamond Raffle (1 in 100 chance to win a 1-carat natural champagne diamond!)📣 Paddle raise to fund critical mental health services🎶 Dancing \nWhether you come to give\, connect\, or simply enjoy a sparkling evening in support of a mental health—this night is for you. \nTickets & Sponsorships:Available now! Sponsorships and Tickets \nProceeds directly support CYN Counseling Center’s programs and services.
URL:https://cyngrayslake.org/event/4th-annual-gala/
LOCATION:Barn at Timber Pointe\, 27901 N. Gilmer Road\, Hawthorn Woods\, IL\, 60060\, United States
CATEGORIES:Dinner
ORGANIZER;CN="CYN Counseling Center":MAILTO:janetg@cyngrayslake.org
END:VEVENT
BEGIN:VEVENT
DTSTART;TZID=UTC:20260926T173000
DTEND;TZID=UTC:20260926T220000
DTSTAMP:20260423T032614
CREATED:20260109T163854Z
LAST-MODIFIED:20260109T163925Z
UID:5205-1790443800-1790460000@cyngrayslake.org
SUMMARY:Behind the Mask Gala - Let the Light In
DESCRIPTION:
URL:https://cyngrayslake.org/event/behind-the-mask-gala-let-the-light-in/
LOCATION:Deer Path Inn\, 255 East Illinois Road\, Lake Forest\, IL\, 60045\, United States
ORGANIZER;CN="CYN Counseling Center":MAILTO:janetg@cyngrayslake.org
END:VEVENT
END:VCALENDAR